BEGIN:VCALENDAR
VERSION:2.0
PRODID:icalendar-ruby
CALSCALE:GREGORIAN
METHOD:PUBLISH
BEGIN:VEVENT
DTSTAMP:20260421T085956Z
UID:109-222543@gatewayumc-wv.org
DTSTART:20260425T120000Z
DTEND:20260425T150000Z
CLASS:PUBLIC
CREATED:20260323T101333
DESCRIPTION:
LAST-MODIFIED:20260323T101333
LOCATION:Pleasant Valley UMC
SUMMARY:GUMM Breakfast Meeting
URL;VALUE=URI:https://www.gatewayumc-wv.org/events/gumm-breakfast-meeting--
 109/2026-04-25
END:VEVENT
END:VCALENDAR
